BEGIN:VCALENDAR
VERSION:2.0
PRODID:-//https://www.ltc-elmshorn.de - ECPv6.15.17.1//NONSGML v1.0//EN
CALSCALE:GREGORIAN
METHOD:PUBLISH
X-ORIGINAL-URL:https://ltc-elmshorn.de
X-WR-CALDESC:Veranstaltungen für https://www.ltc-elmshorn.de
REFRESH-INTERVAL;VALUE=DURATION:PT1H
X-Robots-Tag:noindex
X-PUBLISHED-TTL:PT1H
BEGIN:VTIMEZONE
TZID:Europe/Berlin
BEGIN:DAYLIGHT
TZOFFSETFROM:+0100
TZOFFSETTO:+0200
TZNAME:CEST
DTSTART:20250330T010000
END:DAYLIGHT
BEGIN:STANDARD
TZOFFSETFROM:+0200
TZOFFSETTO:+0100
TZNAME:CET
DTSTART:20251026T010000
END:STANDARD
BEGIN:DAYLIGHT
TZOFFSETFROM:+0100
TZOFFSETTO:+0200
TZNAME:CEST
DTSTART:20260329T010000
END:DAYLIGHT
BEGIN:STANDARD
TZOFFSETFROM:+0200
TZOFFSETTO:+0100
TZNAME:CET
DTSTART:20261025T010000
END:STANDARD
BEGIN:DAYLIGHT
TZOFFSETFROM:+0100
TZOFFSETTO:+0200
TZNAME:CEST
DTSTART:20270328T010000
END:DAYLIGHT
BEGIN:STANDARD
TZOFFSETFROM:+0200
TZOFFSETTO:+0100
TZNAME:CET
DTSTART:20271031T010000
END:STANDARD
END:VTIMEZONE
BEGIN:VEVENT
DTSTART;TZID=Europe/Berlin:20260613T090000
DTEND;TZID=Europe/Berlin:20260613T090000
DTSTAMP:20260421T113007
CREATED:20260314T231322Z
LAST-MODIFIED:20260314T233557Z
UID:1798-1781341200-1781341200@ltc-elmshorn.de
SUMMARY:MC K5: LTC Elmshorn vs TV Uetersen II
DESCRIPTION:Heimspiel in der Liga MC K5: LTC Elmshorn gegen TV Uetersen II. Beginn am 13.06.2026 um 09:00 Uhr. Austragungsort: Lawn Tennis Club Elmshorn. Status/Hinweis: offen.
URL:https://ltc-elmshorn.de/termin/__trashed-165/
LOCATION:Lawn Tennis Club Elmshorn\, Kaltenweide 101\, Elmshorn\, Schleswig Holstein\, 25335\, Germany
CATEGORIES:Jugendliche,Punktspiel,Punktspiel 2026,Wettbewerb
END:VEVENT
BEGIN:VEVENT
DTSTART;TZID=Europe/Berlin:20260627T090000
DTEND;TZID=Europe/Berlin:20260627T090000
DTSTAMP:20260421T113007
CREATED:20260314T231323Z
LAST-MODIFIED:20260314T233558Z
UID:1824-1782550800-1782550800@ltc-elmshorn.de
SUMMARY:MC K5: Marner TC II vs LTC Elmshorn
DESCRIPTION:Auswärtsspiel in der Liga MC K5: Marner TC II gegen LTC Elmshorn. Beginn am 27.06.2026 um 09:00 Uhr. Austragungsort: Marner TC II. Status/Hinweis: offen.
URL:https://ltc-elmshorn.de/termin/__trashed-190/
LOCATION:Marner TC II\, Germany
CATEGORIES:Jugendliche,Punktspiel,Punktspiel 2026,Wettbewerb
END:VEVENT
END:VCALENDAR